BEGIN:VCALENDAR
VERSION:2.0
PRODID:-//Department Of Education//05d9c736-0d68-4ad5-b8f0-12f577974633
BEGIN:VTIMEZONE
TZID:Australia/Sydney
TZURL:http://tzurl.org/zoneinfo-outlook/Australia/Sydney
X-LIC-LOCATION:Australia/Sydney
BEGIN:STANDARD
TZOFFSETFROM:+1100
TZOFFSETTO:+1000
TZNAME:AEST
DTSTART:19700405T030000
RRULE:FREQ=YEARLY;BYMONTH=4;BYDAY=1SU
END:STANDARD
BEGIN:DAYLIGHT
TZOFFSETFROM:+1000
TZOFFSETTO:+1100
TZNAME:AEDT
DTSTART:19701004T020000
RRULE:FREQ=YEARLY;BYMONTH=10;BYDAY=1SU
END:DAYLIGHT
END:VTIMEZONE
CALSCALE:GREGORIAN
X-WR-TIMEZONE:Australia/Sydney
BEGIN:VEVENT
DTSTART;VALUE=DATE:20200429
DTEND;VALUE=DATE:20200430
DTSTAMP:20200429T000000Z
UID:2de85b30-bec4-45dd-a643-e4821ef91ff3
LOCATION:Darlington Point
SUMMARY;LANGUAGE=en-us:Altina Wildlife Park
SEQUENCE:0
DESCRIPTION:Students in years K-2 will attend an excursion to the Altina wildlife Park at Darlington Point.
END:VEVENT
TRANSP:TRANSPARENT
END:VCALENDAR
