BEGIN:VCALENDAR
VERSION:2.0
PRODID:-//Department Of Education//a28edd7c-9704-4eaa-b5ec-00ce66ac7c1c
BEGIN:VTIMEZONE
TZID:Australia/Sydney
TZURL:http://tzurl.org/zoneinfo-outlook/Australia/Sydney
X-LIC-LOCATION:Australia/Sydney
BEGIN:STANDARD
TZOFFSETFROM:+1100
TZOFFSETTO:+1000
TZNAME:AEST
DTSTART:19700405T030000
RRULE:FREQ=YEARLY;BYMONTH=4;BYDAY=1SU
END:STANDARD
BEGIN:DAYLIGHT
TZOFFSETFROM:+1000
TZOFFSETTO:+1100
TZNAME:AEDT
DTSTART:19701004T020000
RRULE:FREQ=YEARLY;BYMONTH=10;BYDAY=1SU
END:DAYLIGHT
END:VTIMEZONE
CALSCALE:GREGORIAN
X-WR-TIMEZONE:Australia/Sydney
BEGIN:VEVENT
DTSTART;VALUE=DATE:20200429
DTEND;VALUE=DATE:20200502
DTSTAMP:20200429T000000Z
UID:93f62fc8-d85f-4c60-9449-5af8b2ddb3af
LOCATION:Canberra
SUMMARY;LANGUAGE=en-us:Canberra Excursion
SEQUENCE:0
DESCRIPTION:Years 3-6 will attend a 3 day excursion to  Canberra to complement their studies on History - Australia as a Nation.
END:VEVENT
TRANSP:TRANSPARENT
END:VCALENDAR
